BEGIN:VCALENDAR
VERSION:2.0
PRODID:KKTIX
CALSCALE:GREGORIAN
METHOD:PUBLISH
BEGIN:VTIMEZONE
TZID:Asia/Taipei
END:VTIMEZONE
BEGIN:VEVENT
DTSTAMP:20260423T172849Z
UID:2e30b449-8d4c-40e3-8f01-ef92019da3d6
DTSTART:20260626T120000Z
DTEND:20260626T120000Z
CLASS:PUBLIC
DESCRIPTION:https://youngteam.kktix.cc/events/whysyoung
LOCATION: (The Wall Live House) The Wall Live House
SUMMARY:Whys Young 'The Myth of Sisyphus' Asia tour in Taipei
END:VEVENT
END:VCALENDAR
